Felt | Verdi |
AlreadyApplied | True |
Aperture | 9.0 |
ApertureValue | 9.0 |
ApproximateFocusDistance | 11.1 |
AutoLateralCA | 0 |
AutoWhiteVersion | 134348800 |
BitsPerSample | 8 |
Blacks2012 | 0 |
BlueHue | 0 |
BlueSaturation | 0 |
CameraProfile | Embedded |
CircleOfConfusion | 0.019 mm |
Clarity2012 | 0 |
ColorComponents | 3 |
ColorNoiseReduction | 0 |
ColorSpace | sRGB |
Contrast2012 | +33 |
ConvertToGrayscale | False |
CreateDate (1) | 2013:09:22 15:27:56.35 |
CreateDate | 2013:09:22 15:27:56 |
CreatorTool | Adobe Photoshop Lightroom 5.0 (Windows) |
CropAngle | 0 |
CropBottom | 0.756757 |
CropConstrainToWarp | 0 |
CropLeft | 0.174174 |
CropRight | 0.885886 |
CropTop | 0.238739 |
CustomRendered | Normal |
DateCreated (1) | 2013:09:22 |
DateCreated | 2013:09:22 15:27:56.35 |
DateTimeOriginal | 2013:09:22 15:27:56 |
DefringeGreenAmount | 0 |
DefringeGreenHueHi | 60 |
DefringeGreenHueLo | 40 |
DefringePurpleAmount | 0 |
DefringePurpleHueHi | 70 |
DefringePurpleHueLo | 30 |
DOF | 0.70 m (10.76 - 11.46 m) |
Exposure2012 | 0.00 |
ExposureCompensation | 0 |
ExposureMode | Auto |
ExposureProgram | Aperture-priority AE |
ExposureTime | 1/500 |
Firmware | 1.0.9 |
Flash | Off, Did not fire |
FlashCompensation | 0 |
FNumber | 9.0 |
FocalLength | 244.0 mm |
FocalLength35efl | 244.0 mm (35 mm equivalent: 383.8 mm) |
Format | image/jpeg |
FOV | 5.4 deg |
GrainAmount | 0 |
GreenHue | 0 |
GreenSaturation | 0 |
HasCrop | True |
HasSettings | True |
Highlights2012 | +26 |
HueAdjustmentAqua | 0 |
HueAdjustmentBlue | 0 |
HueAdjustmentGreen | +27 |
HueAdjustmentMagenta | 0 |
HueAdjustmentOrange | 0 |
HueAdjustmentPurple | 0 |
HueAdjustmentRed | 0 |
HueAdjustmentYellow | 0 |
HyperfocalDistance | 346.26 m |
ImageHeight | 1791 |
ImageNumber | 0 |
ImageSize | 3690x1791 |
ImageWidth | 3690 |
IncrementalTemperature | -36 |
IncrementalTint | +26 |
ISO | 200 |
Lens | 50-500mm |
LensID (1) | 174 |
LensID | Sigma 50-500mm f/4.5-6.3 APO DG OS HSM |
LensInfo | 50-500mm f/? |
LensManualDistortionAmount | 0 |
LensModel | 50-500mm |
LensProfileEnable | 0 |
LensProfileSetup | LensDefaults |
LightValue | 14.3 |
LuminanceAdjustmentAqua | 0 |
LuminanceAdjustmentBlue | 0 |
LuminanceAdjustmentGreen | 0 |
LuminanceAdjustmentMagenta | 0 |
LuminanceAdjustmentOrange | 0 |
LuminanceAdjustmentPurple | 0 |
LuminanceAdjustmentRed | 0 |
LuminanceAdjustmentYellow | 0 |
LuminanceNoiseReductionContrast | 0 |
LuminanceNoiseReductionDetail | 50 |
LuminanceSmoothing | 62 |
Make | Canon |
MaxApertureValue | 6.2 |
Megapixels | 6.6 |
MeteringMode | Multi-segment |
Model | Canon EOS 550D |
ModifyDate (1) | 2013:10:09 23:45:57+02:00 |
ModifyDate | 2013:10:09 23:45:57 |
ParametricDarks | 0 |
ParametricHighlights | +52 |
ParametricHighlightSplit | 75 |
ParametricLights | 0 |
ParametricMidtoneSplit | 50 |
ParametricShadows | -7 |
ParametricShadowSplit | 25 |
PerspectiveAspect | 0 |
PerspectiveHorizontal | 0 |
PerspectiveRotate | 0.0 |
PerspectiveScale | 100 |
PerspectiveUpright | 0 |
PerspectiveVertical | 0 |
PostCropVignetteAmount | 0 |
ProcessVersion | 6.7 |
ProfileDescription | sRGB IEC61966-2.1 |
RedHue | 0 |
RedSaturation | 0 |
Saturation | 0 |
SaturationAdjustmentAqua | 0 |
SaturationAdjustmentBlue | -2 |
SaturationAdjustmentGreen | +27 |
SaturationAdjustmentMagenta | 0 |
SaturationAdjustmentOrange | 0 |
SaturationAdjustmentPurple | 0 |
SaturationAdjustmentRed | 0 |
SaturationAdjustmentYellow | 0 |
ScaleFactor35efl | 1.6 |
SceneCaptureType | Standard |
SerialNumber | 1935003118 |
Shadows2012 | -10 |
ShadowTint | 0 |
SharpenDetail | 24 |
SharpenEdgeMasking | 33 |
SharpenRadius | +0.5 |
Sharpness | 91 |
ShutterSpeed | 1/500 |
ShutterSpeedValue | 1/500 |
Software | Adobe Photoshop Lightroom 5.0 (Windows) |
SplitToningBalance | 0 |
SplitToningHighlightHue | 0 |
SplitToningHighlightSaturation | 0 |
SplitToningShadowHue | 0 |
SplitToningShadowSaturation | 0 |
ToneCurveName2012 | Linear |
ToneCurvePV2012 | 0, 0, 255, 255 |
ToneCurvePV2012Blue | 0, 0, 255, 255 |
ToneCurvePV2012Green | 0, 0, 255, 255 |
ToneCurvePV2012Red | 0, 0, 255, 255 |
Version | 8.2 |
Vibrance | 0 |
VignetteAmount | 0 |
WhiteBalance (1) | Custom |
WhiteBalance | Manual |
Whites2012 | -26 |