Felt | Verdi |
AlreadyApplied | True |
Aperture | 11.0 |
ApertureValue | 11.0 |
ApproximateFocusDistance | 2.72 |
BitsPerSample | 8 |
BlueHue | 0 |
BlueSaturation | 0 |
Brightness | +50 |
CameraProfile | Adobe Standard |
ChromaticAberrationB | 0 |
ChromaticAberrationR | 0 |
CircleOfConfusion | 0.031 mm |
Clarity | 0 |
ColorComponents | 1 |
ColorMode | RGB |
ColorNoiseReduction | 25 |
ColorNoiseReductionDetail | 50 |
ColorSpace | Uncalibrated |
ColorTemperature | 5300 |
Contrast | +44 |
ConvertToGrayscale | False |
Copyright | Ole_Remi_Kristiansen2011 |
CopyrightNotice | Ole_Remi_Kristiansen2011 |
CreateDate (1) | 2012:05:06 17:56:47.07 |
CreateDate | 2012:05:06 17:56:47 |
CreatorTool | Adobe Photoshop CS5 Macintosh |
CropAngle | 0 |
CropBottom | 0.860188 |
CropConstrainToWarp | 1 |
CropHeight | 4 |
CropLeft | 0.161743 |
CropRight | 0.826377 |
CropTop | 0.112474 |
CropUnit | Unknown (3) |
CropWidth | 3 |
CustomRendered | Normal |
DateCreated (1) | 2012:05:06 |
DateCreated | 2012:05:06 17:56:47.007 |
DateTimeOriginal | 2012:05:06 17:56:47 |
Defringe | 0 |
DOF | inf (1.05 m - inf) |
ExifImageHeight | 1890 |
ExifImageWidth | 1417 |
Exposure | 0.00 |
ExposureCompensation | 0 |
ExposureMode | Auto |
ExposureProgram | Aperture-priority AE |
ExposureTime | 1/125 |
FillLight | 10 |
Firmware | 2.0.8 |
Flash | Off, Did not fire |
FlashCompensation | 0 |
FNumber | 11.0 |
FocalLength | 24.0 mm |
FocalLength35efl | 24.0 mm (35 mm equivalent: 23.4 mm) |
Format | image/jpeg |
FOV | 75.1 deg |
GradientBasedCorrActive | true |
GradientBasedCorrAmount | 1.000000 |
GradientBasedCorrBrightness | 0.000000 |
GradientBasedCorrClarity | 0.000000 |
GradientBasedCorrContrast | -0.020000 |
GradientBasedCorrExposure | -0.375000 |
GradientBasedCorrHue | 0.000000 |
GradientBasedCorrMaskFullX | 0.612551 |
GradientBasedCorrMaskFullY | 0.588957 |
GradientBasedCorrMaskValue | 1.000000 |
GradientBasedCorrMaskWhat | Mask/Gradient |
GradientBasedCorrMaskZeroX | 0.523874 |
GradientBasedCorrMaskZeroY | 0.586912 |
GradientBasedCorrSaturation (1) | -0.130000 |
GradientBasedCorrSaturation | 0.000000 |
GradientBasedCorrSharpness | 0.000000 |
GradientBasedCorrWhat | Correction |
GrainAmount | 0 |
GreenHue | 0 |
GreenSaturation | 0 |
HasCrop | True |
HasSettings | True |
HighlightRecovery | 41 |
HueAdjustmentAqua | 0 |
HueAdjustmentBlue | 0 |
HueAdjustmentGreen | 0 |
HueAdjustmentMagenta | 0 |
HueAdjustmentOrange | 0 |
HueAdjustmentPurple | 0 |
HueAdjustmentRed | 0 |
HueAdjustmentYellow | 0 |
HyperfocalDistance | 1.70 m |
ICCProfileName | ProPhoto RGB |
ImageHeight | 1890 |
ImageNumber | 0 |
ImageSize | 1417x1890 |
ImageWidth | 1417 |
ISO | 250 |
Lens | EF24-105mm f/4L IS USM |
LensID (1) | 237 |
LensID | Canon EF 24-105mm f/4L IS USM |
LensInfo | 24-105mm f/? |
LensManualDistortionAmount | 0 |
LensModel | EF24-105mm f/4L IS USM |
LensProfileEnable | 0 |
LensProfileSetup | LensDefaults |
LightValue | 12.6 |
LuminanceAdjustmentAqua | 0 |
LuminanceAdjustmentBlue | -72 |
LuminanceAdjustmentGreen | 0 |
LuminanceAdjustmentMagenta | 0 |
LuminanceAdjustmentOrange | 0 |
LuminanceAdjustmentPurple | -15 |
LuminanceAdjustmentRed | 0 |
LuminanceAdjustmentYellow | 0 |
LuminanceSmoothing | 0 |
Make | Canon |
MaxApertureValue | 4.0 |
Megapixels | 2.7 |
MeteringMode | Multi-segment |
Model | Canon EOS 5D Mark II |
ModifyDate (1) | 2012:05:09 13:37:17+02:00 |
ModifyDate | 2012:05:09 13:37:17 |
Orientation | Horizontal (normal) |
PaintCorrectionActive | true |
PaintCorrectionAmount | 1.000000 |
PaintCorrectionBrightness | 0.000000 |
PaintCorrectionClarity | 0.000000 |
PaintCorrectionContrast | -0.020000 |
PaintCorrectionExposure | 0.300000 |
PaintCorrectionHue | 0.000000 |
PaintCorrectionMaskCenterWeight (8) | 0.843964 |
PaintCorrectionMaskCenterWeight | 0.046388 |
PaintCorrectionMaskFlow (8) | 0.497175 |
PaintCorrectionMaskFlow | 0.544503 |
PaintCorrectionMaskRadius (1) | 0.100766 |
PaintCorrectionMaskRadius (8) | 0.031118 |
PaintCorrectionMaskRadius | 0.045733 |
PaintCorrectionMaskValue (8) | 0.000000 |
PaintCorrectionMaskValue | 0.700000 |
PaintCorrectionMaskWhat | Mask/Paint |
PaintCorrectionSaturation | 0.000000 |
PaintCorrectionSharpness | 0.000000 |
PaintCorrectionWhat | Correction |
ParametricDarks | 0 |
ParametricHighlights | 0 |
ParametricHighlightSplit | 75 |
ParametricLights | +3 |
ParametricMidtoneSplit | 50 |
ParametricShadows | 0 |
ParametricShadowSplit | 25 |
PerspectiveHorizontal | 0 |
PerspectiveRotate | 0.0 |
PerspectiveScale | 100 |
PerspectiveVertical | 0 |
PostCropVignetteAmount | +1 |
PostCropVignetteFeather | 50 |
PostCropVignetteMidpoint | 50 |
PostCropVignetteRoundness | 0 |
PostCropVignetteStyle | 1 |
ProcessVersion | 5.7 |
ProfileDescription | ProPhoto RGB |
Rating | 4 |
RawFileName | _MG_1163.CR2 |
RedHue | 0 |
RedSaturation | 0 |
Rights | Ole_Remi_Kristiansen2011 |
Saturation | -25 |
SaturationAdjustmentAqua | 0 |
SaturationAdjustmentBlue | 0 |
SaturationAdjustmentGreen | 0 |
SaturationAdjustmentMagenta | 0 |
SaturationAdjustmentOrange | 0 |
SaturationAdjustmentPurple | 0 |
SaturationAdjustmentRed | 0 |
SaturationAdjustmentYellow | 0 |
ScaleFactor35efl | 1.0 |
SceneCaptureType | Standard |
SerialNumber | 1531020570 |
Shadows | 5 |
ShadowTint | 0 |
SharpenDetail | 25 |
SharpenEdgeMasking | 0 |
SharpenRadius | +1.0 |
Sharpness | 25 |
ShutterSpeed | 1/125 |
ShutterSpeedValue | 1/125 |
Software | Adobe Photoshop CS5 Macintosh |
SplitToningBalance | 0 |
SplitToningHighlightHue | 56 |
SplitToningHighlightSaturation | 0 |
SplitToningShadowHue | 5 |
SplitToningShadowSaturation | 0 |
SubjectDistance | 2.72 m |
Tint | +26 |
ToneCurve | 0, 0, 32, 22, 64, 56, 128, 128, 192, 196, 255, 255 |
ToneCurveName | Medium Contrast |
URL_List | |
Version | 6.4 |
Vibrance | +4 |
VignetteAmount | 0 |
WhiteBalance (1) | Custom |
WhiteBalance | Manual |