Felt | Verdi |
AlreadyApplied | True |
Aperture | 4.0 |
ApertureValue | 4.0 |
ApproximateFocusDistance | 3.16 |
AutoLateralCA | 0 |
AutoWhiteVersion | 134348800 |
BitsPerSample (1) | 16 16 16 |
BitsPerSample | 8 |
Blacks2012 | 0 |
BlueHue | 0 |
BlueSaturation | -40 |
CameraProfile | TRI-X⁺¹ - C |
CircleOfConfusion | 0.006 mm |
Clarity2012 | 0 |
ColorComponents | 3 |
ColorMode | RGB |
ColorNoiseReduction | 25 |
ColorNoiseReductionDetail | 50 |
ColorNoiseReductionSmoothness | 50 |
ColorSpace | sRGB |
ColorTemperature | 5750 |
ColorTransform | YCbCr |
Contrast2012 | 0 |
ConvertToGrayscale | True |
CreateDate | 2017:04:01 13:17:34 |
CreatorTool | Adobe Photoshop Lightroom 6.9 (Windows) |
CustomRendered | Normal |
DateCreated (1) | 2017:04:01 |
DateCreated | 2017:04:01 13:17:34.092 |
DateTimeOriginal | 2017:04:01 13:17:34 |
Dehaze | 0 |
DOF | 0.28 m (3.02 - 3.31 m) |
ExifImageHeight | 853 |
ExifImageWidth | 1280 |
Exposure2012 | 0.00 |
ExposureCompensation | -1/3 |
ExposureMode | Auto |
ExposureProgram | Aperture-priority AE |
ExposureTime | 1/1250 |
Firmware | 1.0.2 |
Flash | Off, Did not fire |
FlashCompensation | 0 |
FNumber | 4.0 |
FocalLength | 40.0 mm |
FocalLength35efl | 40.0 mm (35 mm equivalent: 210.0 mm) |
Format | image/jpeg |
FOV | 9.8 deg |
GrainAmount | 20 |
GrainFrequency | 100 |
GrainSize | 20 |
GrayMixerAqua | -15 |
GrayMixerBlue | +10 |
GrayMixerGreen | -20 |
GrayMixerMagenta | +15 |
GrayMixerOrange | -12 |
GrayMixerPurple | +25 |
GrayMixerRed | 0 |
GrayMixerYellow | -8 |
GreenHue | 0 |
GreenSaturation | +5 |
HasCrop | False |
HasSettings | True |
Highlights2012 | -20 |
HyperfocalDistance | 69.90 m |
ICCProfileName | sRGB IEC61966-2.1 |
ImageHeight (1) | 4480 |
ImageHeight | 853 |
ImageNumber | 0 |
ImageSize | 1280x853 |
ImageWidth (1) | 6720 |
ImageWidth | 1280 |
ISO | 800 |
Lens | EF40mm f/2.8 STM |
LensID (1) | 4144 |
LensID | Canon EF 40mm f/2.8 STM |
LensInfo | 40mm f/? |
LensManualDistortionAmount | 0 |
LensModel | EF40mm f/2.8 STM |
LensProfileChromaticAberrationScale | 100 |
LensProfileDistortionScale | 100 |
LensProfileEnable | 1 |
LensProfileFilename | Canon EOS 5D Mark II (Canon EF 40mm f2.8 STM) - RAW.lcp |
LensProfileName | Adobe (Canon EF 40mm f/2.8 STM) |
LensProfileSetup | LensDefaults |
LensProfileVignettingScale | 100 |
LensSerialNumber | 1451107677 |
LightValue | 11.3 |
LuminanceSmoothing | 0 |
Make | Canon |
MaxApertureValue | 2.8 |
Megapixels | 1.1 |
MeteringMode | Multi-segment |
Model | Canon EOS 5D Mark IV |
ModifyDate (1) | 2017:04:01 22:42:12+02:00 |
ModifyDate | 2017:04:01 22:42:12 |
Orientation | Horizontal (normal) |
ParametricDarks | 0 |
ParametricHighlights | 0 |
ParametricHighlightSplit | 75 |
ParametricLights | 0 |
ParametricMidtoneSplit | 50 |
ParametricShadows | 0 |
ParametricShadowSplit | 25 |
PerspectiveAspect | 0 |
PerspectiveHorizontal | 0 |
PerspectiveRotate | 0.0 |
PerspectiveScale | 100 |
PerspectiveUpright | 0 |
PerspectiveVertical | 0 |
PerspectiveX | 0.00 |
PerspectiveY | 0.00 |
PhotometricInterpretation | RGB |
PlanarConfiguration | Chunky |
PostCropVignetteAmount | 0 |
ProcessVersion | 6.7 |
ProfileDescription | sRGB IEC61966-2.1 |
RecommendedExposureIndex | 800 |
RedHue | 0 |
RedSaturation | +20 |
SamplesPerPixel | 3 |
ScaleFactor35efl | 5.3 |
SceneCaptureType | Standard |
SensitivityType | Recommended Exposure Index |
SerialNumber | 053052000668 |
Shadows2012 | +10 |
ShadowTint | 0 |
SharpenDetail | 25 |
SharpenEdgeMasking | 0 |
SharpenRadius | +1.0 |
Sharpness | 25 |
ShutterSpeed | 1/1250 |
ShutterSpeedValue | 1/1250 |
Software | Adobe Photoshop CC 2017 (Windows) |
SplitToningBalance | 0 |
SplitToningHighlightHue | 0 |
SplitToningHighlightSaturation | 0 |
SplitToningShadowHue | 0 |
SplitToningShadowSaturation | 0 |
Tint | +2 |
ToneCurve | 0, 0, 255, 255 |
ToneCurveBlue | 0, 0, 255, 255 |
ToneCurveGreen | 0, 0, 255, 255 |
ToneCurveName | Linear |
ToneCurveName2012 | Custom |
ToneCurvePV2012 | 0, 9, 34, 31, 105, 97, 168, 179, 255, 255 |
ToneCurvePV2012Blue | 0, 0, 255, 255 |
ToneCurvePV2012Green | 0, 0, 255, 255 |
ToneCurvePV2012Red | 0, 0, 255, 255 |
ToneCurveRed | 0, 0, 255, 255 |
ToneMapStrength | 0 |
URL_List | |
Version | 9.9 |
VignetteAmount | -12 |
VignetteMidpoint | 50 |
WhiteBalance (1) | As Shot |
WhiteBalance | Auto |
Whites2012 | -15 |