Felt | Verdi |
AlreadyApplied | True |
Aperture | 5.0 |
ApertureValue | 5.0 |
ApproximateFocusDistance | 4.91 |
Artist | TORGEIR EIKREM |
AutoLateralCA | 1 |
BitsPerSample | 8 |
Blacks2012 | -27 |
BlueHue | -15 |
BlueSaturation | 0 |
By-line | TORGEIR EIKREM |
CameraProfile | Fuji FP-100c Neg C |
CircleOfConfusion | 0.017 mm |
Clarity2012 | +9 |
ColorComponents | 3 |
ColorNoiseReduction | 25 |
ColorNoiseReductionDetail | 50 |
ColorTemperature | 4798 |
ColorTransform | YCbCr |
Contrast2012 | +8 |
ConvertToGrayscale | False |
Copyright | TORGEIR EIKREM |
CopyrightNotice | TORGEIR EIKREM |
CreateDate (1) | 2014:06:23 14:35:37.85 |
CreateDate | 2014:06:23 14:35:37 |
Creator | TORGEIR EIKREM |
CreatorTool | Adobe Photoshop Lightroom 5.0 (Macintosh) |
CropAngle | 0 |
CropBottom | 1 |
CropConstrainToWarp | 0 |
CropLeft | 0.038483 |
CropRight | 0.940104 |
CropTop | 0.098379 |
CustomRendered | Normal |
DateCreated (1) | 2014:06:23 |
DateCreated | 2014:06:23 14:35:37.85 |
DateTimeOriginal | 2014:06:23 14:35:37 |
DefringeGreenAmount | 0 |
DefringeGreenHueHi | 60 |
DefringeGreenHueLo | 40 |
DefringePurpleAmount | 0 |
DefringePurpleHueHi | 70 |
DefringePurpleHueLo | 30 |
DOF | 7.07 m (3.22 - 10.29 m) |
Exposure2012 | +0.45 |
ExposureCompensation | 0 |
ExposureMode | Manual |
ExposureProgram | Manual |
ExposureTime | 1/125 |
Firmware | 1.1.1 |
Flash | Off, Did not fire |
FlashCompensation | 0 |
FNumber | 5.0 |
FocalLength | 28.0 mm |
FocalLength35efl | 28.0 mm (35 mm equivalent: 50.1 mm) |
Format | image/jpeg |
FOV | 39.5 deg |
GrainAmount | 10 |
GrainFrequency | 100 |
GrainSize | 65 |
GreenHue | 0 |
GreenSaturation | 0 |
HasCrop | True |
HasSettings | True |
Highlights2012 | -39 |
HueAdjustmentAqua | +30 |
HueAdjustmentBlue | 0 |
HueAdjustmentGreen | +20 |
HueAdjustmentMagenta | +46 |
HueAdjustmentOrange | 0 |
HueAdjustmentPurple | +50 |
HueAdjustmentRed | +20 |
HueAdjustmentYellow | +10 |
HyperfocalDistance | 9.34 m |
ImageHeight | 3289 |
ImageNumber | 0 |
ImageSize | 4934x3289 |
ImageWidth | 4934 |
ISO | 100 |
Lens | 17-70mm |
LensID (1) | 137 |
LensID | Sigma 17-70mm f/2.8-4 DC Macro OS HSM | C |
LensInfo | 17-70mm f/? |
LensManualDistortionAmount | 0 |
LensModel | 17-70mm |
LensProfileChromaticAberrationScale | 100 |
LensProfileDistortionScale | 100 |
LensProfileEnable | 1 |
LensProfileFilename | Canon (SIGMA 17-70mm F2.8-4 DC MACRO OS HSM C013) - RAW.lcp |
LensProfileName | Adobe (SIGMA 17-70mm F2.8-4 DC MACRO OS HSM C013, Canon) |
LensProfileSetup | LensDefaults |
LensProfileVignettingScale | 100 |
LensSerialNumber | 0000000000 |
LightValue | 11.6 |
LuminanceAdjustmentAqua | -40 |
LuminanceAdjustmentBlue | -40 |
LuminanceAdjustmentGreen | -15 |
LuminanceAdjustmentMagenta | +30 |
LuminanceAdjustmentOrange | -5 |
LuminanceAdjustmentPurple | +25 |
LuminanceAdjustmentRed | 0 |
LuminanceAdjustmentYellow | 0 |
LuminanceSmoothing | 0 |
Make | Canon |
MaxApertureValue | 3.4 |
Megapixels | 16.2 |
MeteringMode | Spot |
Model | Canon EOS 70D |
ModifyDate (1) | 2014:06:23 19:33:53+02:00 |
ModifyDate | 2014:06:23 19:33:53 |
PaintCorrectionActive | true |
PaintCorrectionAmount | 1.000000 |
PaintCorrectionBrightness | 0.000000 |
PaintCorrectionClarity2012 | 0.000000 |
PaintCorrectionContrast2012 | 0.000000 |
PaintCorrectionDefringe | 0.000000 |
PaintCorrectionExposure2012 (1) | 0.227265 |
PaintCorrectionExposure2012 (2) | -0.161605 |
PaintCorrectionExposure2012 (3) | -0.284849 |
PaintCorrectionExposure2012 | 0.168276 |
PaintCorrectionHighlights2012 (2) | -0.309428 |
PaintCorrectionHighlights2012 (3) | -0.624649 |
PaintCorrectionHighlights2012 | 0.000000 |
PaintCorrectionHue | 0.000000 |
PaintCorrectionLuminanceNoise | 0.000000 |
PaintCorrectionMaskCenterWeight | 0.000000 |
PaintCorrectionMaskFlow | 1.000000 |
PaintCorrectionMaskRadius (1) | 0.038272 |
PaintCorrectionMaskRadius (10) | 0.057398 |
PaintCorrectionMaskRadius (11) | 0.032108 |
PaintCorrectionMaskRadius (12) | 0.032097 |
PaintCorrectionMaskRadius (2) | 0.038270 |
PaintCorrectionMaskRadius (3) | 0.038278 |
PaintCorrectionMaskRadius (4) | 0.038253 |
PaintCorrectionMaskRadius (5) | 0.091803 |
PaintCorrectionMaskRadius (6) | 0.091553 |
PaintCorrectionMaskRadius (8) | 0.057393 |
PaintCorrectionMaskRadius (9) | 0.057401 |
PaintCorrectionMaskRadius | 0.032107 |
PaintCorrectionMaskValue | 0.440290 |
PaintCorrectionMaskWhat | Mask/Paint |
PaintCorrectionMoire | 0.000000 |
PaintCorrectionSaturation (5) | -0.590765 |
PaintCorrectionSaturation | 0.000000 |
PaintCorrectionShadows2012 (1) | 0.297314 |
PaintCorrectionShadows2012 (2) | 0.000000 |
PaintCorrectionShadows2012 | 0.347173 |
PaintCorrectionSharpness | 0.000000 |
PaintCorrectionTemperature | 0.000000 |
PaintCorrectionTint | 0.000000 |
PaintCorrectionWhat | Correction |
ParametricDarks | 0 |
ParametricHighlights | 0 |
ParametricHighlightSplit | 75 |
ParametricLights | 0 |
ParametricMidtoneSplit | 44 |
ParametricShadows | 0 |
ParametricShadowSplit | 15 |
PerspectiveAspect | 0 |
PerspectiveHorizontal | 0 |
PerspectiveRotate | 0.0 |
PerspectiveScale | 100 |
PerspectiveUpright | 0 |
PerspectiveVertical | 0 |
PostCropVignetteAmount | -10 |
PostCropVignetteFeather | 50 |
PostCropVignetteHighlightContrast | 0 |
PostCropVignetteMidpoint | 50 |
PostCropVignetteRoundness | 0 |
PostCropVignetteStyle | 1 |
ProcessVersion | 6.7 |
ProfileDescription | sRGB IEC61966-2.1 |
RecommendedExposureIndex | 100 |
RedHue | +25 |
RedSaturation | -15 |
Rights | TORGEIR EIKREM |
Saturation | -13 |
SaturationAdjustmentAqua | -36 |
SaturationAdjustmentBlue | 0 |
SaturationAdjustmentGreen | -60 |
SaturationAdjustmentMagenta | -30 |
SaturationAdjustmentOrange | -10 |
SaturationAdjustmentPurple | -60 |
SaturationAdjustmentRed | -20 |
SaturationAdjustmentYellow | -10 |
ScaleFactor35efl | 1.8 |
SceneCaptureType | Standard |
SensitivityType | Recommended Exposure Index |
SerialNumber | 033021013635 |
Shadows2012 | +41 |
ShadowTint | 0 |
SharpenDetail | 25 |
SharpenEdgeMasking | 0 |
SharpenRadius | +1.0 |
Sharpness | 0 |
ShutterSpeed | 1/125 |
ShutterSpeedValue | 1/125 |
Software | Adobe Photoshop Lightroom 5.0 (Macintosh) |
SplitToningBalance | 0 |
SplitToningHighlightHue | 0 |
SplitToningHighlightSaturation | 0 |
SplitToningShadowHue | 0 |
SplitToningShadowSaturation | 0 |
Tint | +14 |
ToneCurveName2012 | Custom |
ToneCurvePV2012 | 0, 52, 49, 70, 157, 150, 227, 225, 255, 253 |
ToneCurvePV2012Blue | 0, 18, 30, 37, 74, 78, 101, 113, 146, 153, 227, 190, 255, 213 |
ToneCurvePV2012Green | 0, 4, 29, 18, 57, 47, 100, 119, 134, 163, 172, 195, 217, 220, 255, 242 |
ToneCurvePV2012Red | 0, 36, 53, 50, 98, 121, 172, 198, 210, 227, 255, 255 |
Version | 8.1 |
Vibrance | -1 |
VignetteAmount | 0 |
WhiteBalance (1) | Custom |
WhiteBalance | Auto |
Whites2012 | -6 |